BEGIN:VCALENDAR
VERSION:2.0
PRODID:-//openiot.network - ECPv6.15.20//NONSGML v1.0//EN
CALSCALE:GREGORIAN
METHOD:PUBLISH
X-ORIGINAL-URL:https://openiot.network
X-WR-CALDESC:Events for openiot.network
REFRESH-INTERVAL;VALUE=DURATION:PT1H
X-Robots-Tag:noindex
X-PUBLISHED-TTL:PT1H
BEGIN:VTIMEZONE
TZID:Europe/Vienna
BEGIN:DAYLIGHT
TZOFFSETFROM:+0100
TZOFFSETTO:+0200
TZNAME:CEST
DTSTART:20180325T010000
END:DAYLIGHT
BEGIN:STANDARD
TZOFFSETFROM:+0200
TZOFFSETTO:+0100
TZNAME:CET
DTSTART:20181028T010000
END:STANDARD
BEGIN:DAYLIGHT
TZOFFSETFROM:+0100
TZOFFSETTO:+0200
TZNAME:CEST
DTSTART:20190331T010000
END:DAYLIGHT
BEGIN:STANDARD
TZOFFSETFROM:+0200
TZOFFSETTO:+0100
TZNAME:CET
DTSTART:20191027T010000
END:STANDARD
BEGIN:DAYLIGHT
TZOFFSETFROM:+0100
TZOFFSETTO:+0200
TZNAME:CEST
DTSTART:20200329T010000
END:DAYLIGHT
BEGIN:STANDARD
TZOFFSETFROM:+0200
TZOFFSETTO:+0100
TZNAME:CET
DTSTART:20201025T010000
END:STANDARD
END:VTIMEZONE
BEGIN:VEVENT
DTSTART;TZID=Europe/Vienna:20191228T180000
DTEND;TZID=Europe/Vienna:20191228T220000
DTSTAMP:20260422T232523
CREATED:20191221T104145Z
LAST-MODIFIED:20191221T104857Z
UID:890-1577556000-1577570400@openiot.network
SUMMARY:Community Meeting
DESCRIPTION:OpenIoT Community Meeting Dezember
URL:https://openiot.network/event/community-meeting/
LOCATION:Hotel Schani Hauptbahnhof\, Karl-Popper-Straße 22\, Wien\, 1100\, Austria
CATEGORIES:Community Event
END:VEVENT
BEGIN:VEVENT
DTSTART;TZID=Europe/Vienna:20191221T100000
DTEND;TZID=Europe/Vienna:20191221T160000
DTSTAMP:20260422T232523
CREATED:20190217T105115Z
LAST-MODIFIED:20191211T063457Z
UID:665-1576922400-1576944000@openiot.network
SUMMARY:Member Meeting
DESCRIPTION:Openiot Members meeting
URL:https://openiot.network/event/member-meeting-3/
LOCATION:to be announced\, Vienna\, Austria
CATEGORIES:Members Event
ATTACH;FMTTYPE=image/jpeg:https://openiot.network/wp-content/uploads/2019/02/members-meeting.jpg
ORGANIZER;CN="Bernhard":MAILTO:bernhard@openiot.at
END:VEVENT
BEGIN:VEVENT
DTSTART;TZID=Europe/Vienna:20191114T180000
DTEND;TZID=Europe/Vienna:20191114T200000
DTSTAMP:20260422T232523
CREATED:20190217T104140Z
LAST-MODIFIED:20190217T104140Z
UID:655-1573754400-1573761600@openiot.network
SUMMARY:Community Meeting November
DESCRIPTION:OpenIoT Community Meeting November
URL:https://openiot.network/event/community-meeting-november/
LOCATION:to be announced\, Vienna\, Austria
CATEGORIES:Community Event
ATTACH;FMTTYPE=image/jpeg:https://openiot.network/wp-content/uploads/2018/09/community-meeting.jpeg
ORGANIZER;CN="Bernhard":MAILTO:bernhard@openiot.at
END:VEVENT
BEGIN:VEVENT
DTSTART;TZID=Europe/Vienna:20191012T160000
DTEND;TZID=Europe/Vienna:20191012T180000
DTSTAMP:20260422T232523
CREATED:20190217T105001Z
LAST-MODIFIED:20190217T105001Z
UID:663-1570896000-1570903200@openiot.network
SUMMARY:Member Meeting
DESCRIPTION:Openiot Members meeting
URL:https://openiot.network/event/member-meeting-2/
LOCATION:to be announced\, Vienna\, Austria
CATEGORIES:Members Event
ATTACH;FMTTYPE=image/jpeg:https://openiot.network/wp-content/uploads/2019/02/members-meeting.jpg
ORGANIZER;CN="Bernhard":MAILTO:bernhard@openiot.at
END:VEVENT
BEGIN:VEVENT
DTSTART;TZID=Europe/Vienna:20190910T180000
DTEND;TZID=Europe/Vienna:20190910T200000
DTSTAMP:20260422T232523
CREATED:20190217T103955Z
LAST-MODIFIED:20190217T103955Z
UID:653-1568138400-1568145600@openiot.network
SUMMARY:Community Meeting September
DESCRIPTION:OpenIoT Community Meeting March
URL:https://openiot.network/event/community-meeting-september/
LOCATION:to be announced\, Vienna\, Austria
CATEGORIES:Community Event
ATTACH;FMTTYPE=image/jpeg:https://openiot.network/wp-content/uploads/2018/02/20180221-Community-Meeting.jpg
ORGANIZER;CN="Stefan":MAILTO:stefan@openiot.at
END:VEVENT
BEGIN:VEVENT
DTSTART;TZID=Europe/Vienna:20190824T160000
DTEND;TZID=Europe/Vienna:20190824T180000
DTSTAMP:20260422T232523
CREATED:20190217T104822Z
LAST-MODIFIED:20190217T104822Z
UID:661-1566662400-1566669600@openiot.network
SUMMARY:Member Meeting
DESCRIPTION:Openiot Members meeting
URL:https://openiot.network/event/member-meeting/
LOCATION:to be announced\, Vienna\, Austria
CATEGORIES:Members Event
ATTACH;FMTTYPE=image/jpeg:https://openiot.network/wp-content/uploads/2019/02/members-meeting.jpg
ORGANIZER;CN="Bernhard":MAILTO:bernhard@openiot.at
END:VEVENT
BEGIN:VEVENT
DTSTART;TZID=Europe/Vienna:20190717T180000
DTEND;TZID=Europe/Vienna:20190717T200000
DTSTAMP:20260422T232523
CREATED:20190217T103746Z
LAST-MODIFIED:20190217T103746Z
UID:651-1563386400-1563393600@openiot.network
SUMMARY:Community Meeting July
DESCRIPTION:OpenIoT Community Meeting July
URL:https://openiot.network/event/community-meeting-july/
LOCATION:to be announced\, Vienna\, Austria
CATEGORIES:Community Event
ATTACH;FMTTYPE=image/jpeg:https://openiot.network/wp-content/uploads/2018/09/community-meeting.jpeg
ORGANIZER;CN="Stefan":MAILTO:stefan@openiot.at
END:VEVENT
BEGIN:VEVENT
DTSTART;TZID=Europe/Vienna:20190620T100000
DTEND;TZID=Europe/Vienna:20190620T160000
DTSTAMP:20260422T232523
CREATED:20190217T104654Z
LAST-MODIFIED:20190526T081253Z
UID:657-1561024800-1561046400@openiot.network
SUMMARY:Members meeting
DESCRIPTION:Openiot Members meeting
URL:https://openiot.network/event/members-meeting/
LOCATION:to be announced\, Vienna\, Austria
CATEGORIES:Members Event
ATTACH;FMTTYPE=image/jpeg:https://openiot.network/wp-content/uploads/2019/02/members-meeting.jpg
ORGANIZER;CN="Stefan":MAILTO:stefan@openiot.at
END:VEVENT
BEGIN:VEVENT
DTSTART;VALUE=DATE:20190611
DTEND;VALUE=DATE:20190614
DTSTAMP:20260422T232523
CREATED:20190217T110148Z
LAST-MODIFIED:20190217T110432Z
UID:667-1560211200-1560470399@openiot.network
SUMMARY:LoRa Alliance Annual Member Meeting
DESCRIPTION:The LoRa Alliance Annual Members Meeting and LoRaWAN™ Live will take place in Berlin\, Germany June 11 – 13 2019. \nTwo day Committee sessions will be followed by a LoRaWAN Live open event allowing all members and guests to join us and learn more about the LoRaWAN™ eco-system.
URL:https://openiot.network/event/lora-alliance-annual-member-meeting/
LOCATION:Hotel Palace Berlin\, Budapester Straße 45\, Berlin\, 10787\, Germany
CATEGORIES:External Workshop
ATTACH;FMTTYPE=image/jpeg:https://openiot.network/wp-content/uploads/2019/02/lora_alliance_logo_white.jpg
END:VEVENT
BEGIN:VEVENT
DTSTART;TZID=Europe/Vienna:20190517T183000
DTEND;TZID=Europe/Vienna:20190517T203000
DTSTAMP:20260422T232523
CREATED:20190217T103447Z
LAST-MODIFIED:20190501T094146Z
UID:647-1558117800-1558125000@openiot.network
SUMMARY:Community Meeting May - Meet & Greet with Andreas Spiess
DESCRIPTION:Meet & Greet with Andreas Spieß\nThe famous electronics expert and youtuber Andreas Spiess (the guy with the swiss accent) will be in Vienna and is happy to join a meet & greet meeting with our community.\n\nDue to seating/reserveration we would kindly ask you to drop us a short email if you would like to come!\n\nContacts:\nBernhard@openiot.at\nMarkus@openiot.at\nHello@openiot.at\n\nThanks & Best Regards\,\nBernhard & Markus
URL:https://openiot.network/event/community-meeting-mai/
LOCATION:Heuriger Kierlinger\, Kahlenbergerstraße 20\, Vienna (Nußdorf)\, 1190\, Austria
CATEGORIES:Community Event
ATTACH;FMTTYPE=image/jpeg:https://openiot.network/wp-content/uploads/2019/01/20170810_191926.jpg
ORGANIZER;CN="Bernhard":MAILTO:bernhard@openiot.at
END:VEVENT
BEGIN:VEVENT
DTSTART;TZID=Europe/Vienna:20190312T180000
DTEND;TZID=Europe/Vienna:20190312T200000
DTSTAMP:20260422T232523
CREATED:20190217T102930Z
LAST-MODIFIED:20190501T094123Z
UID:644-1552413600-1552420800@openiot.network
SUMMARY:Community Meeting March
DESCRIPTION:OpenIoT Community Meeting March
URL:https://openiot.network/event/community-meeting-march/
LOCATION:Hotel Schani Hauptbahnhof\, Karl-Popper-Straße 22\, Wien\, 1100\, Austria
CATEGORIES:Community Event
ATTACH;FMTTYPE=image/jpeg:https://openiot.network/wp-content/uploads/2019/01/20170810_191926.jpg
ORGANIZER;CN="Stefan":MAILTO:stefan@openiot.at
END:VEVENT
BEGIN:VEVENT
DTSTART;TZID=Europe/Vienna:20190223T090000
DTEND;TZID=Europe/Vienna:20190223T180000
DTSTAMP:20260422T232523
CREATED:20190217T095338Z
LAST-MODIFIED:20190218T115159Z
UID:636-1550912400-1550944800@openiot.network
SUMMARY:Gateway Workshop
DESCRIPTION:What is the workshop about?\n\nShort introduction related to LoRaWAN Gateways\nAssembling 2 different types of gateways for the Netidee project\nSetup the gateways & configure them properly\nInstall the gateways in the wild join them into the TTN Vienna/OpenIoT network\n\nWhat will the workshop be like?\n\nWe will have a short session about the different gateway types in use by our Verein\, experiences and the rollout strategy itself\nWe will work in groups to assemble and configure the gateways\nTwo different gateway types will be covered (RaspberryPi/IMST based and Lorix One).\nOther gateway types will not be covered directly in this workshop\, but I’m sure we can exchange experiences over a coffee.\nThe main focus is on OpenIoT gateways. Hardware will be provided by us for locations chosen by the Verein.\nIf you want to work on your own hardware – feel free to bring it to the workshop. Typically those gateways can be set-up in parallel.\nPlease be aware that this is not directly a product-troubleshooting workshop. If you need support with your LoRaWAN projects our forum would be a better place to start.
URL:https://openiot.network/event/gateway-workshop/
LOCATION:ÖBB Open Innovation Factory\, Laxenburger Straße 2A\, Wien\, Wien\, 1100\, Austria
CATEGORIES:Public Workshop
ATTACH;FMTTYPE=image/png:https://openiot.network/wp-content/uploads/2019/02/Bild1.png
ORGANIZER;CN="Bernhard":MAILTO:bernhard@openiot.at
END:VEVENT
BEGIN:VEVENT
DTSTART;TZID=Europe/Vienna:20190222T160000
DTEND;TZID=Europe/Vienna:20190222T190000
DTSTAMP:20260422T232523
CREATED:20190217T102425Z
LAST-MODIFIED:20190217T104701Z
UID:641-1550851200-1550862000@openiot.network
SUMMARY:Member Meeting
DESCRIPTION:Openiot Members meeting
URL:https://openiot.network/event/openiot-members-meeting/
LOCATION:ÖBB Open Innovation Factory\, Laxenburger Straße 2A\, Wien\, Wien\, 1100\, Austria
CATEGORIES:Members Event
ATTACH;FMTTYPE=image/jpeg:https://openiot.network/wp-content/uploads/2019/02/members-meeting.jpg
ORGANIZER;CN="Stefan":MAILTO:stefan@openiot.at
END:VEVENT
END:VCALENDAR